﻿BEGIN:VCALENDAR
VERSION:2.0
PRODID:-//Military Division - ECPv5.3.2.1//NONSGML v1.0//EN
CALSCALE:GREGORIAN
METHOD:PUBLISH
X-WR-CALNAME:Military Division
X-ORIGINAL-URL:https://www.imd.idaho.gov
X-WR-CALDESC:Events for Military Division
BEGIN:VTIMEZONE
TZID:America/Boise
BEGIN:DAYLIGHT
TZOFFSETFROM:-0700
TZOFFSETTO:-0600
TZNAME:MDT
DTSTART:20210314T090000
END:DAYLIGHT
BEGIN:STANDARD
TZOFFSETFROM:-0600
TZOFFSETTO:-0700
TZNAME:MST
DTSTART:20211107T080000
END:STANDARD
END:VTIMEZONE
BEGIN:VEVENT
DTSTART;VALUE=DATE:20210712
DTEND;VALUE=DATE:20210713
DTSTAMP:20210518T030830
CREATED:20210318T212529Z
LAST-MODIFIED:20210318T212529Z
UID:8900-1626048000-1626134399@www.imd.idaho.gov
SUMMARY:Spiritual Fitness Challenge
DESCRIPTION:Join the Chaplain’s Office as they conquer the five highest peaks in Idaho! This is a great way to build your mental and physical wellness while enjoying Idaho’s beauty and some great company.
URL:https://www.imd.idaho.gov/event/spiritual-fitness-challenge/2021-07-12/
ORGANIZER;CN="Chaplain%27s%20Office":MAILTO:colton.j.sabala.mil@mail.mil
END:VEVENT
BEGIN:VEVENT
DTSTART;VALUE=DATE:20210614
DTEND;VALUE=DATE:20210615
DTSTAMP:20210518T030830
CREATED:20210318T212529Z
LAST-MODIFIED:20210318T212529Z
UID:8899-1623628800-1623715199@www.imd.idaho.gov
SUMMARY:Spiritual Fitness Challenge
DESCRIPTION:Join the Chaplain’s Office as they conquer the five highest peaks in Idaho! This is a great way to build your mental and physical wellness while enjoying Idaho’s beauty and some great company.
URL:https://www.imd.idaho.gov/event/spiritual-fitness-challenge/2021-06-14/
ORGANIZER;CN="Chaplain%27s%20Office":MAILTO:colton.j.sabala.mil@mail.mil
END:VEVENT
BEGIN:VEVENT
DTSTART;TZID=America/Boise:20210525T183000
DTEND;TZID=America/Boise:20210525T200000
DTSTAMP:20210518T030830
CREATED:20210309T193719Z
LAST-MODIFIED:20210309T193719Z
UID:8771-1621967400-1621972800@www.imd.idaho.gov
SUMMARY:Peer Life Support Group- Navigating Military Life
DESCRIPTION:Learn and connect with others military affiliated people about the challenges of military life. Hosted by our Beyond the Yellow Ribbon Free and Confidential Mental Health Counselors. \n \nClick to Enlarge
URL:https://www.imd.idaho.gov/event/peer-life-support-group-navigating-military-life/2021-05-25/
LOCATION:Veterans Memorial Hall Caldwell\, 1101 Cleveland Blvd\, Caldwell\, Idaho\, 83605
CATEGORIES:Mental Health Services
ORGANIZER;CN="Jennifer%20Turner":MAILTO:jennifer.l.turner125.ctr@mail.mil
END:VEVENT
BEGIN:VEVENT
DTSTART;TZID=America/Boise:20210522T130000
DTEND;TZID=America/Boise:20210522T160000
DTSTAMP:20210518T030830
CREATED:20210510T205417Z
LAST-MODIFIED:20210510T205417Z
UID:9073-1621688400-1621699200@www.imd.idaho.gov
SUMMARY:Treasure Valley- Military Spouse Appreciation
DESCRIPTION:Registration Link: Cognito Forms
URL:https://www.imd.idaho.gov/event/treasure-valley-military-spouse-appreciation/
LOCATION:Powderhaus Brewing Company\, 9719 W Chinden Blvd\, Garden City\, ID 83714\, Boise\, Idaho
END:VEVENT
BEGIN:VEVENT
DTSTART;TZID=America/Boise:20210522T120000
DTEND;TZID=America/Boise:20210522T130000
DTSTAMP:20210518T030830
CREATED:20210505T213841Z
LAST-MODIFIED:20210505T213841Z
UID:9056-1621684800-1621688400@www.imd.idaho.gov
SUMMARY:Military Youth Live Event
DESCRIPTION:Join our Child & Youth Programs for this month’s Military Youth Live Event! \n \nClick Here to Enlarge
URL:https://www.imd.idaho.gov/event/military-youth-live-event-3/
CATEGORIES:Youth
ORGANIZER;CN="Nick%20Wagner":MAILTO:nicholas.a.wagner10.ctr@mail.mil
END:VEVENT
BEGIN:VEVENT
DTSTART;TZID=America/Boise:20210518T183000
DTEND;TZID=America/Boise:20210518T200000
DTSTAMP:20210518T030830
CREATED:20210309T193719Z
LAST-MODIFIED:20210309T193719Z
UID:8770-1621362600-1621368000@www.imd.idaho.gov
SUMMARY:Peer Life Support Group- Navigating Military Life
DESCRIPTION:Learn and connect with others military affiliated people about the challenges of military life. Hosted by our Beyond the Yellow Ribbon Free and Confidential Mental Health Counselors. \n \nClick to Enlarge
URL:https://www.imd.idaho.gov/event/peer-life-support-group-navigating-military-life/2021-05-18/
LOCATION:Veterans Memorial Hall Caldwell\, 1101 Cleveland Blvd\, Caldwell\, Idaho\, 83605
CATEGORIES:Mental Health Services
ORGANIZER;CN="Jennifer%20Turner":MAILTO:jennifer.l.turner125.ctr@mail.mil
END:VEVENT
END:VCALENDAR