BEGIN:VCALENDAR
VERSION:2.0
PRODID:-//Military Division - ECPv6.15.17//NONSGML v1.0//EN
CALSCALE:GREGORIAN
METHOD:PUBLISH
X-WR-CALNAME:Military Division
X-ORIGINAL-URL:https://www.imd.idaho.gov
X-WR-CALDESC:Events for Military Division
REFRESH-INTERVAL;VALUE=DURATION:PT1H
X-Robots-Tag:noindex
X-PUBLISHED-TTL:PT1H
BEGIN:VTIMEZONE
TZID:America/Boise
BEGIN:DAYLIGHT
TZOFFSETFROM:-0700
TZOFFSETTO:-0600
TZNAME:MDT
DTSTART:20200308T090000
END:DAYLIGHT
BEGIN:STANDARD
TZOFFSETFROM:-0600
TZOFFSETTO:-0700
TZNAME:MST
DTSTART:20201101T080000
END:STANDARD
BEGIN:DAYLIGHT
TZOFFSETFROM:-0700
TZOFFSETTO:-0600
TZNAME:MDT
DTSTART:20210314T090000
END:DAYLIGHT
BEGIN:STANDARD
TZOFFSETFROM:-0600
TZOFFSETTO:-0700
TZNAME:MST
DTSTART:20211107T080000
END:STANDARD
BEGIN:DAYLIGHT
TZOFFSETFROM:-0700
TZOFFSETTO:-0600
TZNAME:MDT
DTSTART:20220313T090000
END:DAYLIGHT
BEGIN:STANDARD
TZOFFSETFROM:-0600
TZOFFSETTO:-0700
TZNAME:MST
DTSTART:20221106T080000
END:STANDARD
BEGIN:DAYLIGHT
TZOFFSETFROM:-0700
TZOFFSETTO:-0600
TZNAME:MDT
DTSTART:20230312T090000
END:DAYLIGHT
BEGIN:STANDARD
TZOFFSETFROM:-0600
TZOFFSETTO:-0700
TZNAME:MST
DTSTART:20231105T080000
END:STANDARD
BEGIN:DAYLIGHT
TZOFFSETFROM:-0700
TZOFFSETTO:-0600
TZNAME:MDT
DTSTART:20240310T090000
END:DAYLIGHT
BEGIN:STANDARD
TZOFFSETFROM:-0600
TZOFFSETTO:-0700
TZNAME:MST
DTSTART:20241103T080000
END:STANDARD
BEGIN:DAYLIGHT
TZOFFSETFROM:-0700
TZOFFSETTO:-0600
TZNAME:MDT
DTSTART:20250309T090000
END:DAYLIGHT
BEGIN:STANDARD
TZOFFSETFROM:-0600
TZOFFSETTO:-0700
TZNAME:MST
DTSTART:20251102T080000
END:STANDARD
END:VTIMEZONE
BEGIN:VEVENT
DTSTART;VALUE=DATE:20240424
DTEND;VALUE=DATE:20240425
DTSTAMP:20260425T075631
CREATED:20240410T195043Z
LAST-MODIFIED:20240410T195633Z
UID:12725-1713916800-1714003199@www.imd.idaho.gov
SUMMARY:Denim Day
DESCRIPTION:Denim Day is Wednesday\, April 24th! What is Denim Day? \nThe Denim Day story began in Italy in 1992\, when an 18-year old woman was raped by her 45-year old driving instructor who was taking her to her very first driving lesson. He took her to an isolated road\, pulled her out of the car\, removed her jeans and forcefully raped her. She reported the rape and the perpetrator was arrested\, prosecuted and convicted of rape and sentenced to jail. Years later\, he appealed the conviction claiming that they had consensual sex. The Italian Supreme Court overturned the conviction\, and the perpetrator was released. A statement from the Court argued that because the victim was wearing very tight jeans\, she had to help him remove them\, and by removing the jeans it was not rape but consensual sex. Enraged by the verdict\, the women in the Italian Parliament launched a protest wearing jeans on the steps of the Supreme Court. Denim Day was born.   \nDenim Day continues the discussion to dispel myths about sexual assault and consent\, support survivors\, and fight to hold people accountable for these types of crimes. With supervisor approval\, denim is authorized wear for civilians and uniformed service members on Wednesday\, April 24th. We also welcome all to join us at our SAAPM 5K at 1500 that day at the Gowen Recreation Complex- wearing denim to run would be highly impressive but is not required. T-shirts will be available for 5K participants while supplies last.
URL:https://www.imd.idaho.gov/event/12725/
CATEGORIES:SHARP/ SARC
END:VEVENT
BEGIN:VEVENT
DTSTART;VALUE=DATE:20240424
DTEND;VALUE=DATE:20240425
DTSTAMP:20260425T075631
CREATED:20240326T164940Z
LAST-MODIFIED:20240326T165856Z
UID:12672-1713916800-1714003199@www.imd.idaho.gov
SUMMARY:Sexual Assault Awareness & Prevention 5K
DESCRIPTION:
URL:https://www.imd.idaho.gov/event/sexual-assault-awareness-prevention-5k/
CATEGORIES:SHARP/ SARC
END:VEVENT
BEGIN:VEVENT
DTSTART;TZID=America/Boise:20230426T140000
DTEND;TZID=America/Boise:20230426T170000
DTSTAMP:20260425T075631
CREATED:20230308T210813Z
LAST-MODIFIED:20230420T204321Z
UID:11412-1682517600-1682528400@www.imd.idaho.gov
SUMMARY:Denim Day and 5K
DESCRIPTION:Wear denim to raise awareness for Sexual Assault Awareness and Prevention Month! Then join us in the afternoon at the Gowen Outdoor Pavilion across from BLDG 270 where we will give our donations to local crisis centers and kick off our Denim Day 5k. \nRegistration for the 5K begins at 1400 and the race will start at 1430.
URL:https://www.imd.idaho.gov/event/denim-day-and-5k/
CATEGORIES:SHARP/ SARC
END:VEVENT
BEGIN:VEVENT
DTSTART;TZID=America/Boise:20230402T143000
DTEND;TZID=America/Boise:20230402T153000
DTSTAMP:20260425T075631
CREATED:20230308T205437Z
LAST-MODIFIED:20230328T145626Z
UID:11407-1680445800-1680449400@www.imd.idaho.gov
SUMMARY:SAAPM Prevention Proclamation
DESCRIPTION:
URL:https://www.imd.idaho.gov/event/saapm-prevention-proclamation/
CATEGORIES:SHARP/ SARC
END:VEVENT
BEGIN:VEVENT
DTSTART;TZID=America/Boise:20220427T150000
DTEND;TZID=America/Boise:20220427T170000
DTSTAMP:20260425T075631
CREATED:20220324T204926Z
LAST-MODIFIED:20220324T204948Z
UID:10293-1651071600-1651078800@www.imd.idaho.gov
SUMMARY:SAPR Denim Day
DESCRIPTION:
URL:https://www.imd.idaho.gov/event/sapr-denim-day/
CATEGORIES:SHARP/ SARC
END:VEVENT
BEGIN:VEVENT
DTSTART;VALUE=DATE:20220425
DTEND;VALUE=DATE:20220426
DTSTAMP:20260425T075631
CREATED:20220324T204225Z
LAST-MODIFIED:20220324T204225Z
UID:10288-1650844800-1650931199@www.imd.idaho.gov
SUMMARY:SAPR Virtual 5K Deadline
DESCRIPTION:
URL:https://www.imd.idaho.gov/event/sapr-virtual-5k-deadline/
CATEGORIES:SHARP/ SARC
END:VEVENT
BEGIN:VEVENT
DTSTART;TZID=America/Boise:20220401T080000
DTEND;TZID=America/Boise:20220401T170000
DTSTAMP:20260425T075631
CREATED:20220324T204811Z
LAST-MODIFIED:20220324T204811Z
UID:10290-1648800000-1648832400@www.imd.idaho.gov
SUMMARY:SAPR Supply Drive: ALL MONTH
DESCRIPTION:
URL:https://www.imd.idaho.gov/event/sapr-supply-drive-all-month/
CATEGORIES:SHARP/ SARC
END:VEVENT
BEGIN:VEVENT
DTSTART;VALUE=DATE:20210423
DTEND;VALUE=DATE:20210424
DTSTAMP:20260425T075631
CREATED:20210324T171359Z
LAST-MODIFIED:20210401T222537Z
UID:8952-1619136000-1619222399@www.imd.idaho.gov
SUMMARY:Virtual 5K for Sexual Assault Awareness and Prevention Month
DESCRIPTION:Registration is open to run the SHARP Virtual 5K! \nFill out this registration form or contact Sean Egbert for more information. \n \nClick to Enlarge
URL:https://www.imd.idaho.gov/event/open-registration-virtual-5k-for-sexual-assault-awareness-and-prevention-month-2021-04-23/
CATEGORIES:SHARP/ SARC
ORGANIZER;CN="SHARP Office":MAILTO:sean.t.egbert.mil@mail.mil
END:VEVENT
BEGIN:VEVENT
DTSTART;VALUE=DATE:20210324
DTEND;VALUE=DATE:20210325
DTSTAMP:20260425T075631
CREATED:20210324T171359Z
LAST-MODIFIED:20210401T222537Z
UID:8936-1616544000-1616630399@www.imd.idaho.gov
SUMMARY:Virtual 5K for Sexual Assault Awareness and Prevention Month
DESCRIPTION:Registration is open to run the SHARP Virtual 5K! \nFill out this registration form or contact Sean Egbert for more information. \n \nClick to Enlarge
URL:https://www.imd.idaho.gov/event/open-registration-virtual-5k-for-sexual-assault-awareness-and-prevention-month/
CATEGORIES:SHARP/ SARC
ORGANIZER;CN="SHARP Office":MAILTO:sean.t.egbert.mil@mail.mil
END:VEVENT
END:VCALENDAR