BEGIN:VCALENDAR
VERSION:2.0
PRODID:-//Military Division - ECPv6.15.17//NONSGML v1.0//EN
CALSCALE:GREGORIAN
METHOD:PUBLISH
X-WR-CALNAME:Military Division
X-ORIGINAL-URL:https://www.imd.idaho.gov
X-WR-CALDESC:Events for Military Division
REFRESH-INTERVAL;VALUE=DURATION:PT1H
X-Robots-Tag:noindex
X-PUBLISHED-TTL:PT1H
BEGIN:VTIMEZONE
TZID:America/Boise
BEGIN:DAYLIGHT
TZOFFSETFROM:-0700
TZOFFSETTO:-0600
TZNAME:MDT
DTSTART:20200308T090000
END:DAYLIGHT
BEGIN:STANDARD
TZOFFSETFROM:-0600
TZOFFSETTO:-0700
TZNAME:MST
DTSTART:20201101T080000
END:STANDARD
BEGIN:DAYLIGHT
TZOFFSETFROM:-0700
TZOFFSETTO:-0600
TZNAME:MDT
DTSTART:20210314T090000
END:DAYLIGHT
BEGIN:STANDARD
TZOFFSETFROM:-0600
TZOFFSETTO:-0700
TZNAME:MST
DTSTART:20211107T080000
END:STANDARD
BEGIN:DAYLIGHT
TZOFFSETFROM:-0700
TZOFFSETTO:-0600
TZNAME:MDT
DTSTART:20220313T090000
END:DAYLIGHT
BEGIN:STANDARD
TZOFFSETFROM:-0600
TZOFFSETTO:-0700
TZNAME:MST
DTSTART:20221106T080000
END:STANDARD
END:VTIMEZONE
BEGIN:VTIMEZONE
TZID:America/Los_Angeles
BEGIN:DAYLIGHT
TZOFFSETFROM:-0800
TZOFFSETTO:-0700
TZNAME:PDT
DTSTART:20200308T100000
END:DAYLIGHT
BEGIN:STANDARD
TZOFFSETFROM:-0700
TZOFFSETTO:-0800
TZNAME:PST
DTSTART:20201101T090000
END:STANDARD
BEGIN:DAYLIGHT
TZOFFSETFROM:-0800
TZOFFSETTO:-0700
TZNAME:PDT
DTSTART:20210314T100000
END:DAYLIGHT
BEGIN:STANDARD
TZOFFSETFROM:-0700
TZOFFSETTO:-0800
TZNAME:PST
DTSTART:20211107T090000
END:STANDARD
BEGIN:DAYLIGHT
TZOFFSETFROM:-0800
TZOFFSETTO:-0700
TZNAME:PDT
DTSTART:20220313T100000
END:DAYLIGHT
BEGIN:STANDARD
TZOFFSETFROM:-0700
TZOFFSETTO:-0800
TZNAME:PST
DTSTART:20221106T090000
END:STANDARD
END:VTIMEZONE
BEGIN:VEVENT
DTSTART;TZID=America/Boise:20211020T160000
DTEND;TZID=America/Boise:20211020T210000
DTSTAMP:20260424T191318
CREATED:20210914T172757Z
LAST-MODIFIED:20210914T172757Z
UID:9565-1634745600-1634763600@www.imd.idaho.gov
SUMMARY:Military Retiree Appreciation Night
DESCRIPTION:
URL:https://www.imd.idaho.gov/event/military-retiree-appreciation-night/
LOCATION:GFAC\, Gowen Field Bldg 710\, Boise\, Idaho
END:VEVENT
BEGIN:VEVENT
DTSTART;VALUE=DATE:20211022
DTEND;VALUE=DATE:20211025
DTSTAMP:20260424T191318
CREATED:20210914T204858Z
LAST-MODIFIED:20210914T204858Z
UID:9578-1634860800-1635119999@www.imd.idaho.gov
SUMMARY:Strong Bonds Weekend for Army Couples
DESCRIPTION:Click here to enlarge
URL:https://www.imd.idaho.gov/event/strong-bonds-weekend-for-army-couples/
LOCATION:Sawtelle Mountain Resort\, Island Park\, ID\, Island Park\, ID
ORGANIZER;CN="2LT Farrias":MAILTO:jessica.a.farrias.mil@mail.mil
END:VEVENT
BEGIN:VEVENT
DTSTART;TZID=America/Boise:20211023T103000
DTEND;TZID=America/Boise:20211023T140000
DTSTAMP:20260424T191318
CREATED:20210927T174413Z
LAST-MODIFIED:20210927T174413Z
UID:9600-1634985000-1634997600@www.imd.idaho.gov
SUMMARY:Boise & Caldwell Military Youth Group
DESCRIPTION:BOISE- 10:30 Am- 12pm at Boise Elks Lodge \nCALDWELL: 1-2pm at Caldwell Armory
URL:https://www.imd.idaho.gov/event/boise-caldwell-military-youth-group/
LOCATION:Boise Elks Lodge\, 6608 W Fairview Ave\, Boise\, ID 83704
ORGANIZER;CN="Nick Wagner":MAILTO:nicholas.a.wagner10.ctr@army.mil
END:VEVENT
BEGIN:VEVENT
DTSTART;TZID=America/Boise:20211025T080000
DTEND;TZID=America/Boise:20211030T170000
DTSTAMP:20260424T191318
CREATED:20211026T163445Z
LAST-MODIFIED:20211026T163445Z
UID:9657-1635148800-1635613200@www.imd.idaho.gov
SUMMARY:RED RIBBON WEEK
DESCRIPTION:The Idaho National Guard Service Member & Family Support team invites you and your children to participate in Red Ribbon Week 2021\, taking place October 25th-29th. This year’s Red Ribbon Week theme is Drug Free Looks Like Me. The theme is a call to action to speak out in support of healthy choices. It also serves as a reminder that we are all empowered with shaping the communities around us through positivity\, bravery and strength. Here are a few ways you and your family can participate:\n\n1. COLORING PAGE & PLEDGE: Attached you will find a coloring sheet and drug free pledge for adults and youth. You can fill these out with your kids\, and return them to your nearest armory or Trunk or Treat event to receive a free gift from your Service Member & Family Support Specialist (See below for an event near you). Additionally\, you can take a picture of your coloring sheet or with your pledge and post it to our Facebook Group!\n\n2. WEAR RED ON THURSDAY: Wear something RED on Thursday\, Oct 28 to support a drug free lifestyle. Take a picture and post it to our Facebook!\n\n3. WATCH US ON SOCIAL MEDIA: Every day we will post an interesting tidbit from Red Ribbon Week on our Facebook and Instagram Pages\, so join us to learn more!\n\nUPCOMING EVENTS TO BRING YOUR COLORING SHEET & PLEDGE:\n\nOCT 28– \nIdaho Falls- Trunk or Treat:\n4-6pm MT @ Idaho Falls Armory\n\n\nOCT 29–\nAda County- Trunk or Treat\n5-7pm MT @ Gowen\, BLDG 270 Parking Lot\n\nPost Falls- Fall Festival\n5-9pm PST @ Post Falls Armory\n\nOCT 30–\nLewiston- Trunk or Treat\n1-4pm @ Lewiston Armory\n\nCan’t make it to one of these events? Contact a Service Member & Family Support Specialist near you!
URL:https://www.imd.idaho.gov/event/red-ribbon-week-2/
END:VEVENT
BEGIN:VEVENT
DTSTART;TZID=America/Boise:20211028T160000
DTEND;TZID=America/Boise:20211028T180000
DTSTAMP:20260424T191318
CREATED:20211006T220525Z
LAST-MODIFIED:20211006T220525Z
UID:9625-1635436800-1635444000@www.imd.idaho.gov
SUMMARY:IDAHO FALLS- Trunk or Treat
DESCRIPTION:
URL:https://www.imd.idaho.gov/event/idaho-falls-trunk-or-treat/
CATEGORIES:Youth
ORGANIZER;CN="Bev McLendon":MAILTO:beverly.l.mclendon.nfg@army.mil
END:VEVENT
BEGIN:VEVENT
DTSTART;TZID=America/Boise:20211029T170000
DTEND;TZID=America/Boise:20211029T190000
DTSTAMP:20260424T191318
CREATED:20210927T181403Z
LAST-MODIFIED:20210927T181403Z
UID:9603-1635526800-1635534000@www.imd.idaho.gov
SUMMARY:GOWEN--Trunk or Treat
DESCRIPTION:Trunk or Treat Save the Date
URL:https://www.imd.idaho.gov/event/gowen-trunk-or-treat/
LOCATION:Gowen Field Bldg 270 Parking Lot\, Boise\, ID
CATEGORIES:Youth
ORGANIZER;CN="Nick Wagner":MAILTO:nicholas.a.wagner10.ctr@army.mil
END:VEVENT
BEGIN:VEVENT
DTSTART;TZID=America/Los_Angeles:20211029T170000
DTEND;TZID=America/Los_Angeles:20211029T200000
DTSTAMP:20260424T191318
CREATED:20211001T200434Z
LAST-MODIFIED:20211001T200607Z
UID:9613-1635526800-1635537600@www.imd.idaho.gov
SUMMARY:POST FALLS- Fall Festival
DESCRIPTION:
URL:https://www.imd.idaho.gov/event/post-falls-fall-festival/
CATEGORIES:Youth
ORGANIZER;CN="Cassandra Rzepa":MAILTO:cassandra.k.rzepa.nfg@army.mil
END:VEVENT
BEGIN:VEVENT
DTSTART;TZID=America/Los_Angeles:20211030T130000
DTEND;TZID=America/Los_Angeles:20211030T160000
DTSTAMP:20260424T191318
CREATED:20211001T201009Z
LAST-MODIFIED:20211001T201009Z
UID:9616-1635598800-1635609600@www.imd.idaho.gov
SUMMARY:LEWISTON- Trunk or Treat
DESCRIPTION:
URL:https://www.imd.idaho.gov/event/lewiston-trunk-or-treat/
CATEGORIES:Youth
ORGANIZER;CN="Keesha West":MAILTO:keesha.l.west.nfg@army.mil
END:VEVENT
END:VCALENDAR