BEGIN:VCALENDAR
VERSION:2.0
PRODID:-//Military Division - ECPv6.15.17//NONSGML v1.0//EN
CALSCALE:GREGORIAN
METHOD:PUBLISH
X-WR-CALNAME:Military Division
X-ORIGINAL-URL:https://www.imd.idaho.gov
X-WR-CALDESC:Events for Military Division
REFRESH-INTERVAL;VALUE=DURATION:PT1H
X-Robots-Tag:noindex
X-PUBLISHED-TTL:PT1H
BEGIN:VTIMEZONE
TZID:America/Boise
BEGIN:DAYLIGHT
TZOFFSETFROM:-0700
TZOFFSETTO:-0600
TZNAME:MDT
DTSTART:20200308T090000
END:DAYLIGHT
BEGIN:STANDARD
TZOFFSETFROM:-0600
TZOFFSETTO:-0700
TZNAME:MST
DTSTART:20201101T080000
END:STANDARD
BEGIN:DAYLIGHT
TZOFFSETFROM:-0700
TZOFFSETTO:-0600
TZNAME:MDT
DTSTART:20210314T090000
END:DAYLIGHT
BEGIN:STANDARD
TZOFFSETFROM:-0600
TZOFFSETTO:-0700
TZNAME:MST
DTSTART:20211107T080000
END:STANDARD
BEGIN:DAYLIGHT
TZOFFSETFROM:-0700
TZOFFSETTO:-0600
TZNAME:MDT
DTSTART:20220313T090000
END:DAYLIGHT
BEGIN:STANDARD
TZOFFSETFROM:-0600
TZOFFSETTO:-0700
TZNAME:MST
DTSTART:20221106T080000
END:STANDARD
END:VTIMEZONE
BEGIN:VEVENT
DTSTART;TZID=America/Boise:20210701T120000
DTEND;TZID=America/Boise:20210701T170000
DTSTAMP:20260425T052559
CREATED:20210611T205439Z
LAST-MODIFIED:20210611T205439Z
UID:9236-1625140800-1625158800@www.imd.idaho.gov
SUMMARY:25th Army Band Tour
DESCRIPTION:All concerts are free and open to the public.
URL:https://www.imd.idaho.gov/event/25th-army-band-tour-3/
LOCATION:Silverwood Theme Park\, Athol\, 27843 US-95\, Athol\, ID\, 83801
END:VEVENT
BEGIN:VEVENT
DTSTART;TZID=America/Boise:20210702T190000
DTEND;TZID=America/Boise:20210702T190000
DTSTAMP:20260425T052559
CREATED:20210611T205602Z
LAST-MODIFIED:20210611T205602Z
UID:9239-1625252400-1625252400@www.imd.idaho.gov
SUMMARY:25th Army Band Tour
DESCRIPTION:All concerts are free and open to the public.
URL:https://www.imd.idaho.gov/event/25th-army-band-tour-4/
LOCATION:Teeters Field\, Kellogg
END:VEVENT
BEGIN:VEVENT
DTSTART;TZID=America/Boise:20210703T180000
DTEND;TZID=America/Boise:20210703T180000
DTSTAMP:20260425T052559
CREATED:20210611T205658Z
LAST-MODIFIED:20210611T205658Z
UID:9242-1625335200-1625335200@www.imd.idaho.gov
SUMMARY:25th Army Band Tour
DESCRIPTION:All concerts are free and open to the public.
URL:https://www.imd.idaho.gov/event/25th-army-band-tour-5/
LOCATION:Tullamore Park\, Post Falls
END:VEVENT
BEGIN:VEVENT
DTSTART;VALUE=DATE:20210704
DTEND;VALUE=DATE:20210705
DTSTAMP:20260425T052559
CREATED:20210611T205916Z
LAST-MODIFIED:20210611T205916Z
UID:9248-1625356800-1625443199@www.imd.idaho.gov
SUMMARY:25th Army Band Tour
DESCRIPTION:All concerts are free and open to the public. TIME OF THIS EVENT IS TBD
URL:https://www.imd.idaho.gov/event/25th-army-band-tour-7/
LOCATION:Coeur d’Alene City Park
END:VEVENT
BEGIN:VEVENT
DTSTART;TZID=America/Boise:20210704T110000
DTEND;TZID=America/Boise:20210704T170000
DTSTAMP:20260425T052559
CREATED:20210611T205755Z
LAST-MODIFIED:20210611T205755Z
UID:9245-1625396400-1625418000@www.imd.idaho.gov
SUMMARY:25th Army Band Tour
DESCRIPTION:All concerts are free and open to the public.
URL:https://www.imd.idaho.gov/event/25th-army-band-tour-6/
LOCATION:Coeur d’Alene Parade
END:VEVENT
END:VCALENDAR