﻿BEGIN:VCALENDAR
VERSION:2.0
PRODID:-//Military Division - ECPv5.3.2.1//NONSGML v1.0//EN
CALSCALE:GREGORIAN
METHOD:PUBLISH
X-WR-CALNAME:Military Division
X-ORIGINAL-URL:https://www.imd.idaho.gov
X-WR-CALDESC:Events for Military Division
BEGIN:VTIMEZONE
TZID:America/Boise
BEGIN:DAYLIGHT
TZOFFSETFROM:-0700
TZOFFSETTO:-0600
TZNAME:MDT
DTSTART:20210314T090000
END:DAYLIGHT
BEGIN:STANDARD
TZOFFSETFROM:-0600
TZOFFSETTO:-0700
TZNAME:MST
DTSTART:20211107T080000
END:STANDARD
END:VTIMEZONE
BEGIN:VEVENT
DTSTART;TZID=America/Boise:20210330T163000
DTEND;TZID=America/Boise:20210330T173000
DTSTAMP:20210518T030825
CREATED:20210205T164832Z
LAST-MODIFIED:20210205T164832Z
UID:8323-1617121800-1617125400@www.imd.idaho.gov
SUMMARY:Tax Talks with Trysha\, PFC
DESCRIPTION:Join Trysha Thompson\, PFC\, every Tuesday and Thursday as she prepares you for Tax season! She will give you great tips and advice to make sure you are doing things right this year! Totally free\, and every week until April 15th. Zoom login information below! \n \nClick to Enlarge
URL:https://www.imd.idaho.gov/event/tax-talks-with-trysha-pfc/2021-03-30/
CATEGORIES:Personal Finance Counseling
ORGANIZER;CN="Trysha%20Thompson":MAILTO:pfc2.id.ng@zeiders.com
END:VEVENT
BEGIN:VEVENT
DTSTART;TZID=America/Boise:20210330T183000
DTEND;TZID=America/Boise:20210330T200000
DTSTAMP:20210518T030825
CREATED:20210309T193719Z
LAST-MODIFIED:20210309T193719Z
UID:8763-1617129000-1617134400@www.imd.idaho.gov
SUMMARY:Peer Life Support Group- Navigating Military Life
DESCRIPTION:Learn and connect with others military affiliated people about the challenges of military life. Hosted by our Beyond the Yellow Ribbon Free and Confidential Mental Health Counselors. \n \nClick to Enlarge
URL:https://www.imd.idaho.gov/event/peer-life-support-group-navigating-military-life/2021-03-30/
LOCATION:Veterans Memorial Hall Caldwell\, 1101 Cleveland Blvd\, Caldwell\, Idaho\, 83605
CATEGORIES:Mental Health Services
ORGANIZER;CN="Jennifer%20Turner":MAILTO:jennifer.l.turner125.ctr@mail.mil
END:VEVENT
BEGIN:VEVENT
DTSTART;TZID=America/Boise:20210331T114500
DTEND;TZID=America/Boise:20210331T124500
DTSTAMP:20210518T030825
CREATED:20210226T181320Z
LAST-MODIFIED:20210226T181320Z
UID:8522-1617191100-1617194700@www.imd.idaho.gov
SUMMARY:Recovery Support Group
DESCRIPTION:Click to Enlarge
URL:https://www.imd.idaho.gov/event/recovery-support-group/2021-03-31/
LOCATION:GFAC\, Gowen Field Bldg 710\, Boise\, Idaho
CATEGORIES:Drug & Alcohol Prevention
ORGANIZER;CN="ASAP%20Office":MAILTO:melanie.j.patterson.ctr@mail.mil
END:VEVENT
BEGIN:VEVENT
DTSTART;TZID=America/Boise:20210401T163000
DTEND;TZID=America/Boise:20210401T173000
DTSTAMP:20210518T030825
CREATED:20210205T164832Z
LAST-MODIFIED:20210205T164832Z
UID:8324-1617294600-1617298200@www.imd.idaho.gov
SUMMARY:Tax Talks with Trysha\, PFC
DESCRIPTION:Join Trysha Thompson\, PFC\, every Tuesday and Thursday as she prepares you for Tax season! She will give you great tips and advice to make sure you are doing things right this year! Totally free\, and every week until April 15th. Zoom login information below! \n \nClick to Enlarge
URL:https://www.imd.idaho.gov/event/tax-talks-with-trysha-pfc/2021-04-01/
CATEGORIES:Personal Finance Counseling
ORGANIZER;CN="Trysha%20Thompson":MAILTO:pfc2.id.ng@zeiders.com
END:VEVENT
BEGIN:VEVENT
DTSTART;VALUE=DATE:20210402
DTEND;VALUE=DATE:20210403
DTSTAMP:20210518T030825
CREATED:20210330T154844Z
LAST-MODIFIED:20210330T154942Z
UID:8972-1617321600-1617407999@www.imd.idaho.gov
SUMMARY:Purple Up Friday
DESCRIPTION:Everyone (Including Uniformed Members) are invited to wear purple in support of April the Month of the Military Child. There are 10\,000 military youth across the state of Idaho. Wear purple on Friday\, 2 April 2021 to show your support for their sacrifice and dedication to support their parent(s) who serve. \n 
URL:https://www.imd.idaho.gov/event/purple-up-friday/
CATEGORIES:Youth
ORGANIZER;CN="Nick%20Wagner":MAILTO:nicholas.a.wagner10.ctr@mail.mil
END:VEVENT
BEGIN:VEVENT
DTSTART;TZID=America/Boise:20210403T093000
DTEND;TZID=America/Boise:20210403T130000
DTSTAMP:20210518T030825
CREATED:20210312T215805Z
LAST-MODIFIED:20210312T215805Z
UID:8797-1617442200-1617454800@www.imd.idaho.gov
SUMMARY:IDAHO FALLS- Egg Hunt & Pancake Breakfast
DESCRIPTION:
URL:https://www.imd.idaho.gov/event/idaho-falls-egg-hunt-pancake-breakfast/
LOCATION:Idaho Falls Armory\, 575 W 21st Street\, Idaho Falls\, Idaho
ORGANIZER;CN="Beverly%20McLendon":MAILTO:beverly.a.mclendon.nfg@mail.mil
END:VEVENT
BEGIN:VEVENT
DTSTART;TZID=America/Boise:20210403T100000
DTEND;TZID=America/Boise:20210403T120000
DTSTAMP:20210518T030825
CREATED:20210309T191902Z
LAST-MODIFIED:20210309T191902Z
UID:8753-1617444000-1617451200@www.imd.idaho.gov
SUMMARY:Gowen- Easter Egg Hunt Drive-In
DESCRIPTION:Military Youth in the Boise/ Caldwell area are invited to join in our Drive-In event Easter Egg Hunt! Registration below! \n \nClick to Enlarge
URL:https://www.imd.idaho.gov/event/gowen-easter-egg-hunt-drive-in/
CATEGORIES:Youth
ORGANIZER;CN="Nick%20Wagner":MAILTO:nicholas.a.wagner10.ctr@mail.mil
END:VEVENT
BEGIN:VEVENT
DTSTART;TZID=America/Boise:20210406T163000
DTEND;TZID=America/Boise:20210406T173000
DTSTAMP:20210518T030825
CREATED:20210205T164832Z
LAST-MODIFIED:20210205T164832Z
UID:8325-1617726600-1617730200@www.imd.idaho.gov
SUMMARY:Tax Talks with Trysha\, PFC
DESCRIPTION:Join Trysha Thompson\, PFC\, every Tuesday and Thursday as she prepares you for Tax season! She will give you great tips and advice to make sure you are doing things right this year! Totally free\, and every week until April 15th. Zoom login information below! \n \nClick to Enlarge
URL:https://www.imd.idaho.gov/event/tax-talks-with-trysha-pfc/2021-04-06/
CATEGORIES:Personal Finance Counseling
ORGANIZER;CN="Trysha%20Thompson":MAILTO:pfc2.id.ng@zeiders.com
END:VEVENT
BEGIN:VEVENT
DTSTART;TZID=America/Boise:20210406T183000
DTEND;TZID=America/Boise:20210406T200000
DTSTAMP:20210518T030825
CREATED:20210309T193719Z
LAST-MODIFIED:20210309T193719Z
UID:8764-1617733800-1617739200@www.imd.idaho.gov
SUMMARY:Peer Life Support Group- Navigating Military Life
DESCRIPTION:Learn and connect with others military affiliated people about the challenges of military life. Hosted by our Beyond the Yellow Ribbon Free and Confidential Mental Health Counselors. \n \nClick to Enlarge
URL:https://www.imd.idaho.gov/event/peer-life-support-group-navigating-military-life/2021-04-06/
LOCATION:Veterans Memorial Hall Caldwell\, 1101 Cleveland Blvd\, Caldwell\, Idaho\, 83605
CATEGORIES:Mental Health Services
ORGANIZER;CN="Jennifer%20Turner":MAILTO:jennifer.l.turner125.ctr@mail.mil
END:VEVENT
BEGIN:VEVENT
DTSTART;TZID=America/Boise:20210407T114500
DTEND;TZID=America/Boise:20210407T124500
DTSTAMP:20210518T030825
CREATED:20210226T181320Z
LAST-MODIFIED:20210226T181320Z
UID:8523-1617795900-1617799500@www.imd.idaho.gov
SUMMARY:Recovery Support Group
DESCRIPTION:Click to Enlarge
URL:https://www.imd.idaho.gov/event/recovery-support-group/2021-04-07/
LOCATION:GFAC\, Gowen Field Bldg 710\, Boise\, Idaho
CATEGORIES:Drug & Alcohol Prevention
ORGANIZER;CN="ASAP%20Office":MAILTO:melanie.j.patterson.ctr@mail.mil
END:VEVENT
BEGIN:VEVENT
DTSTART;TZID=America/Boise:20210408T163000
DTEND;TZID=America/Boise:20210408T173000
DTSTAMP:20210518T030825
CREATED:20210205T164832Z
LAST-MODIFIED:20210205T164832Z
UID:8326-1617899400-1617903000@www.imd.idaho.gov
SUMMARY:Tax Talks with Trysha\, PFC
DESCRIPTION:Join Trysha Thompson\, PFC\, every Tuesday and Thursday as she prepares you for Tax season! She will give you great tips and advice to make sure you are doing things right this year! Totally free\, and every week until April 15th. Zoom login information below! \n \nClick to Enlarge
URL:https://www.imd.idaho.gov/event/tax-talks-with-trysha-pfc/2021-04-08/
CATEGORIES:Personal Finance Counseling
ORGANIZER;CN="Trysha%20Thompson":MAILTO:pfc2.id.ng@zeiders.com
END:VEVENT
BEGIN:VEVENT
DTSTART;VALUE=DATE:20210409
DTEND;VALUE=DATE:20210412
DTSTAMP:20210518T030825
CREATED:20210318T213032Z
LAST-MODIFIED:20210318T213032Z
UID:8901-1617926400-1618185599@www.imd.idaho.gov
SUMMARY:Strong Bonds McCall Retreat
DESCRIPTION:A weekend to learn new skills to strengthen your marriage. Must be married and childcare NOT provided. See contact information below to register\, spots are limited! \n 
URL:https://www.imd.idaho.gov/event/strong-bonds-mccall-retreat/
LOCATION:Hunt Lodge\, McCall\, McCall\, Idaho
ORGANIZER;CN="Chaplain%27s%20Office":MAILTO:jessica.farrias.1@us.af.mil
END:VEVENT
BEGIN:VEVENT
DTSTART;TZID=America/Boise:20210413T163000
DTEND;TZID=America/Boise:20210413T173000
DTSTAMP:20210518T030825
CREATED:20210205T164832Z
LAST-MODIFIED:20210205T164832Z
UID:8327-1618331400-1618335000@www.imd.idaho.gov
SUMMARY:Tax Talks with Trysha\, PFC
DESCRIPTION:Join Trysha Thompson\, PFC\, every Tuesday and Thursday as she prepares you for Tax season! She will give you great tips and advice to make sure you are doing things right this year! Totally free\, and every week until April 15th. Zoom login information below! \n \nClick to Enlarge
URL:https://www.imd.idaho.gov/event/tax-talks-with-trysha-pfc/2021-04-13/
CATEGORIES:Personal Finance Counseling
ORGANIZER;CN="Trysha%20Thompson":MAILTO:pfc2.id.ng@zeiders.com
END:VEVENT
BEGIN:VEVENT
DTSTART;TZID=America/Boise:20210413T183000
DTEND;TZID=America/Boise:20210413T200000
DTSTAMP:20210518T030825
CREATED:20210309T193719Z
LAST-MODIFIED:20210309T193719Z
UID:8765-1618338600-1618344000@www.imd.idaho.gov
SUMMARY:Peer Life Support Group- Navigating Military Life
DESCRIPTION:Learn and connect with others military affiliated people about the challenges of military life. Hosted by our Beyond the Yellow Ribbon Free and Confidential Mental Health Counselors. \n \nClick to Enlarge
URL:https://www.imd.idaho.gov/event/peer-life-support-group-navigating-military-life/2021-04-13/
LOCATION:Veterans Memorial Hall Caldwell\, 1101 Cleveland Blvd\, Caldwell\, Idaho\, 83605
CATEGORIES:Mental Health Services
ORGANIZER;CN="Jennifer%20Turner":MAILTO:jennifer.l.turner125.ctr@mail.mil
END:VEVENT
BEGIN:VEVENT
DTSTART;TZID=America/Boise:20210414T114500
DTEND;TZID=America/Boise:20210414T124500
DTSTAMP:20210518T030825
CREATED:20210226T181320Z
LAST-MODIFIED:20210226T181320Z
UID:8524-1618400700-1618404300@www.imd.idaho.gov
SUMMARY:Recovery Support Group
DESCRIPTION:Click to Enlarge
URL:https://www.imd.idaho.gov/event/recovery-support-group/2021-04-14/
LOCATION:GFAC\, Gowen Field Bldg 710\, Boise\, Idaho
CATEGORIES:Drug & Alcohol Prevention
ORGANIZER;CN="ASAP%20Office":MAILTO:melanie.j.patterson.ctr@mail.mil
END:VEVENT
BEGIN:VEVENT
DTSTART;TZID=America/Boise:20210415T163000
DTEND;TZID=America/Boise:20210415T173000
DTSTAMP:20210518T030825
CREATED:20210205T164832Z
LAST-MODIFIED:20210205T164832Z
UID:8328-1618504200-1618507800@www.imd.idaho.gov
SUMMARY:Tax Talks with Trysha\, PFC
DESCRIPTION:Join Trysha Thompson\, PFC\, every Tuesday and Thursday as she prepares you for Tax season! She will give you great tips and advice to make sure you are doing things right this year! Totally free\, and every week until April 15th. Zoom login information below! \n \nClick to Enlarge
URL:https://www.imd.idaho.gov/event/tax-talks-with-trysha-pfc/2021-04-15/
CATEGORIES:Personal Finance Counseling
ORGANIZER;CN="Trysha%20Thompson":MAILTO:pfc2.id.ng@zeiders.com
END:VEVENT
BEGIN:VEVENT
DTSTART;TZID=America/Boise:20210417T120000
DTEND;TZID=America/Boise:20210417T130000
DTSTAMP:20210518T030825
CREATED:20210309T190749Z
LAST-MODIFIED:20210330T155103Z
UID:8744-1618660800-1618664400@www.imd.idaho.gov
SUMMARY:Military Youth Live: April
DESCRIPTION:Join us as we celebrate the Month of the Military Child in a special MYL event! Registration information below. \n \nClick to Enlarge
URL:https://www.imd.idaho.gov/event/military-youth-live-april/
CATEGORIES:Youth
ORGANIZER;CN="Nick%20Wagner":MAILTO:nicholas.a.wagner10.ctr@mail.mil
END:VEVENT
BEGIN:VEVENT
DTSTART;TZID=America/Boise:20210420T183000
DTEND;TZID=America/Boise:20210420T200000
DTSTAMP:20210518T030825
CREATED:20210309T193719Z
LAST-MODIFIED:20210309T193719Z
UID:8766-1618943400-1618948800@www.imd.idaho.gov
SUMMARY:Peer Life Support Group- Navigating Military Life
DESCRIPTION:Learn and connect with others military affiliated people about the challenges of military life. Hosted by our Beyond the Yellow Ribbon Free and Confidential Mental Health Counselors. \n \nClick to Enlarge
URL:https://www.imd.idaho.gov/event/peer-life-support-group-navigating-military-life/2021-04-20/
LOCATION:Veterans Memorial Hall Caldwell\, 1101 Cleveland Blvd\, Caldwell\, Idaho\, 83605
CATEGORIES:Mental Health Services
ORGANIZER;CN="Jennifer%20Turner":MAILTO:jennifer.l.turner125.ctr@mail.mil
END:VEVENT
BEGIN:VEVENT
DTSTART;TZID=America/Boise:20210421T114500
DTEND;TZID=America/Boise:20210421T124500
DTSTAMP:20210518T030825
CREATED:20210226T181320Z
LAST-MODIFIED:20210226T181320Z
UID:8525-1619005500-1619009100@www.imd.idaho.gov
SUMMARY:Recovery Support Group
DESCRIPTION:Click to Enlarge
URL:https://www.imd.idaho.gov/event/recovery-support-group/2021-04-21/
LOCATION:GFAC\, Gowen Field Bldg 710\, Boise\, Idaho
CATEGORIES:Drug & Alcohol Prevention
ORGANIZER;CN="ASAP%20Office":MAILTO:melanie.j.patterson.ctr@mail.mil
END:VEVENT
BEGIN:VEVENT
DTSTART;VALUE=DATE:20210423
DTEND;VALUE=DATE:20210424
DTSTAMP:20210518T030825
CREATED:20210324T171359Z
LAST-MODIFIED:20210401T222537Z
UID:8952-1619136000-1619222399@www.imd.idaho.gov
SUMMARY:Virtual 5K for Sexual Assault Awareness and Prevention Month
DESCRIPTION:Registration is open to run the SHARP Virtual 5K! \nFill out this registration form or contact Sean Egbert for more information. \n \nClick to Enlarge
URL:https://www.imd.idaho.gov/event/open-registration-virtual-5k-for-sexual-assault-awareness-and-prevention-month/2021-04-23/
CATEGORIES:SHARP/ SARC
ORGANIZER;CN="SHARP%20Office":MAILTO:sean.t.egbert.mil@mail.mil
END:VEVENT
BEGIN:VEVENT
DTSTART;VALUE=DATE:20210423
DTEND;VALUE=DATE:20210424
DTSTAMP:20210518T030825
CREATED:20210324T172240Z
LAST-MODIFIED:20210324T172322Z
UID:8944-1619136000-1619222399@www.imd.idaho.gov
SUMMARY:ENTRY DEADLINE- Military Youth Art Contest
DESCRIPTION:Click to Enlarge
URL:https://www.imd.idaho.gov/event/entry-deadline-military-youth-art-contest/
CATEGORIES:Youth
ORGANIZER;CN="Nick%20Wagner":MAILTO:nicholas.a.wagner10.ctr@mail.mil
END:VEVENT
BEGIN:VEVENT
DTSTART;TZID=America/Boise:20210424T130000
DTEND;TZID=America/Boise:20210424T160000
DTSTAMP:20210518T030825
CREATED:20210414T211249Z
LAST-MODIFIED:20210414T211249Z
UID:9017-1619269200-1619280000@www.imd.idaho.gov
SUMMARY:Volunteer Appreciation Event
DESCRIPTION:Pre-Registration Required! Contact Glen or Diann to get signed up!
URL:https://www.imd.idaho.gov/event/volunteer-appreciation-event/
LOCATION:Underhill Park\, 9600 W Brookside Ln\, Boise\, ID 83714\, Boise\, Idaho
ORGANIZER;CN="Glen%20Fuchs":MAILTO:glen.w.fuchs2.nfg@mail.mil
END:VEVENT
BEGIN:VEVENT
DTSTART;TZID=America/Boise:20210427T183000
DTEND;TZID=America/Boise:20210427T200000
DTSTAMP:20210518T030825
CREATED:20210309T193719Z
LAST-MODIFIED:20210309T193719Z
UID:8767-1619548200-1619553600@www.imd.idaho.gov
SUMMARY:Peer Life Support Group- Navigating Military Life
DESCRIPTION:Learn and connect with others military affiliated people about the challenges of military life. Hosted by our Beyond the Yellow Ribbon Free and Confidential Mental Health Counselors. \n \nClick to Enlarge
URL:https://www.imd.idaho.gov/event/peer-life-support-group-navigating-military-life/2021-04-27/
LOCATION:Veterans Memorial Hall Caldwell\, 1101 Cleveland Blvd\, Caldwell\, Idaho\, 83605
CATEGORIES:Mental Health Services
ORGANIZER;CN="Jennifer%20Turner":MAILTO:jennifer.l.turner125.ctr@mail.mil
END:VEVENT
BEGIN:VEVENT
DTSTART;TZID=America/Boise:20210428T114500
DTEND;TZID=America/Boise:20210428T124500
DTSTAMP:20210518T030825
CREATED:20210226T181320Z
LAST-MODIFIED:20210226T181320Z
UID:8526-1619610300-1619613900@www.imd.idaho.gov
SUMMARY:Recovery Support Group
DESCRIPTION:Click to Enlarge
URL:https://www.imd.idaho.gov/event/recovery-support-group/2021-04-28/
LOCATION:GFAC\, Gowen Field Bldg 710\, Boise\, Idaho
CATEGORIES:Drug & Alcohol Prevention
ORGANIZER;CN="ASAP%20Office":MAILTO:melanie.j.patterson.ctr@mail.mil
END:VEVENT
BEGIN:VEVENT
DTSTART;VALUE=DATE:20210430
DTEND;VALUE=DATE:20210501
DTSTAMP:20210518T030825
CREATED:20210318T211825Z
LAST-MODIFIED:20210318T211825Z
UID:8886-1619740800-1619827199@www.imd.idaho.gov
SUMMARY:Operation Megaphone- Child & Youth Programs
DESCRIPTION:All military youth are invited to attend a viewing of the movie The Incredibles at their local armory. This event is a part of the Operation Megaphone initiative to gather all military youth throughout the country at the same time! Contact one of our CYP counselors to find out the time of your armory’s movie showing.
URL:https://www.imd.idaho.gov/event/operation-megaphone-child-youth-programs/
CATEGORIES:Youth
ORGANIZER;CN="Nick%20Wagner":MAILTO:nicholas.a.wagner10.ctr@mail.mil
END:VEVENT
END:VCALENDAR