﻿BEGIN:VCALENDAR
VERSION:2.0
PRODID:-//Military Division - ECPv5.3.2.1//NONSGML v1.0//EN
CALSCALE:GREGORIAN
METHOD:PUBLISH
X-WR-CALNAME:Military Division
X-ORIGINAL-URL:https://www.imd.idaho.gov
X-WR-CALDESC:Events for Military Division
BEGIN:VTIMEZONE
TZID:America/Boise
BEGIN:DAYLIGHT
TZOFFSETFROM:-0700
TZOFFSETTO:-0600
TZNAME:MDT
DTSTART:20190310T090000
END:DAYLIGHT
BEGIN:STANDARD
TZOFFSETFROM:-0600
TZOFFSETTO:-0700
TZNAME:MST
DTSTART:20191103T080000
END:STANDARD
END:VTIMEZONE
BEGIN:VEVENT
DTSTART;TZID=America/Boise:20190425T080000
DTEND;TZID=America/Boise:20190425T170000
DTSTAMP:20210621T072445
CREATED:20190411T152316Z
LAST-MODIFIED:20190411T152316Z
UID:3458-1556179200-1556211600@www.imd.idaho.gov
SUMMARY:Veterans Legal Clinic at the Caldwell Department of Labor
DESCRIPTION:25 April 2019: Caldwell: Veterans Legal Clinic at the Caldwell Department of Labor
URL:https://www.imd.idaho.gov/event/veterans-legal-clinic-at-the-caldwell-department-of-labor/
LOCATION:ID\, United States
END:VEVENT
END:VCALENDAR