﻿BEGIN:VCALENDAR
VERSION:2.0
PRODID:-//Military Division - ECPv5.3.2.1//NONSGML v1.0//EN
CALSCALE:GREGORIAN
METHOD:PUBLISH
X-WR-CALNAME:Military Division
X-ORIGINAL-URL:https://www.imd.idaho.gov
X-WR-CALDESC:Events for Military Division
BEGIN:VTIMEZONE
TZID:America/Boise
BEGIN:DAYLIGHT
TZOFFSETFROM:-0700
TZOFFSETTO:-0600
TZNAME:MDT
DTSTART:20190310T090000
END:DAYLIGHT
BEGIN:STANDARD
TZOFFSETFROM:-0600
TZOFFSETTO:-0700
TZNAME:MST
DTSTART:20191103T080000
END:STANDARD
END:VTIMEZONE
BEGIN:VEVENT
DTSTART;TZID=America/Boise:20190426T143000
DTEND;TZID=America/Boise:20190426T163000
DTSTAMP:20210621T072634
CREATED:20190416T200932Z
LAST-MODIFIED:20190416T201527Z
UID:3896-1556289000-1556296200@www.imd.idaho.gov
SUMMARY:SEXUAL ASSAULT AWARENESS AND PREVENTION MONTH 5K Fun Run/Walk
DESCRIPTION:April 26\, 2019 at 2:30 pm Gowen Field Outdoor Pavilion Open to Idaho Military Division members and families FREE to all who participate!\nSEXUAL ASSAULT AWARENESS AND PREVENTION MONTH 5K Fun Run/Walk\nFor questions\, please contact:\nSean Egbert: (208) 272-4306 sean.t.egbert.mil@mail.mil\nCarl Hendricks: (208) 272-8400 carl.p.hendricks.mil@mail.mil \nflyer
URL:https://www.imd.idaho.gov/event/sexual-assault-awareness-and-prevention-month-5k-fun-run-walk/
LOCATION:ID\, United States
END:VEVENT
END:VCALENDAR