﻿BEGIN:VCALENDAR
VERSION:2.0
PRODID:-//Military Division - ECPv5.3.2.1//NONSGML v1.0//EN
CALSCALE:GREGORIAN
METHOD:PUBLISH
X-WR-CALNAME:Military Division
X-ORIGINAL-URL:https://www.imd.idaho.gov
X-WR-CALDESC:Events for Military Division
BEGIN:VTIMEZONE
TZID:America/Boise
BEGIN:DAYLIGHT
TZOFFSETFROM:-0700
TZOFFSETTO:-0600
TZNAME:MDT
DTSTART:20190310T090000
END:DAYLIGHT
BEGIN:STANDARD
TZOFFSETFROM:-0600
TZOFFSETTO:-0700
TZNAME:MST
DTSTART:20191103T080000
END:STANDARD
END:VTIMEZONE
BEGIN:VEVENT
DTSTART;TZID=America/Boise:20190413T100000
DTEND;TZID=America/Boise:20190413T123000
DTSTAMP:20210621T072305
CREATED:20190329T212902Z
LAST-MODIFIED:20190403T153140Z
UID:2855-1555149600-1555158600@www.imd.idaho.gov
SUMMARY:Easter Egg Hunt
DESCRIPTION:Bounce House * Face Painting * Games * Treats RSVP Required. Email your children’s age and branch of service to: melissajo.a.harger.ctr@mail.mil \nRace Schedule: \n10am – ages 0-3\n10:30am – ages 4-5\n11am – ages 6-7\n11:30am – 8-10
URL:https://www.imd.idaho.gov/event/easter-egg-hunt/
LOCATION:ID\, United States
CATEGORIES:Survivor Outreach,Youth
END:VEVENT
END:VCALENDAR