﻿BEGIN:VCALENDAR
VERSION:2.0
PRODID:-//Military Division - ECPv5.3.2.1//NONSGML v1.0//EN
CALSCALE:GREGORIAN
METHOD:PUBLISH
X-WR-CALNAME:Military Division
X-ORIGINAL-URL:https://www.imd.idaho.gov
X-WR-CALDESC:Events for Military Division
BEGIN:VTIMEZONE
TZID:America/Boise
BEGIN:DAYLIGHT
TZOFFSETFROM:-0700
TZOFFSETTO:-0600
TZNAME:MDT
DTSTART:20210314T090000
END:DAYLIGHT
BEGIN:STANDARD
TZOFFSETFROM:-0600
TZOFFSETTO:-0700
TZNAME:MST
DTSTART:20211107T080000
END:STANDARD
END:VTIMEZONE
BEGIN:VEVENT
DTSTART;TZID=America/Boise:20210918T120000
DTEND;TZID=America/Boise:20210918T130000
DTSTAMP:20211010T192050
CREATED:20210816T190658Z
LAST-MODIFIED:20210816T221631Z
UID:9420-1631966400-1631970000@www.imd.idaho.gov
SUMMARY:Military Youth Live
DESCRIPTION:Click Here to Register
URL:https://www.imd.idaho.gov/event/9420/
CATEGORIES:Youth
ORGANIZER;CN="Nick%20Wagner":MAILTO:nicholas.a.wagner10.ctr@army.mil
END:VEVENT
END:VCALENDAR